Workbook

Sheet Sheet1
A1: 锦屏县中医医院2025年第二次公开招聘编外工作人员总成绩
A2: 序号 | B2: 姓名 | C2: 性别 | D2: 岗位 类型 | E2: 准考证号 | F2: 考场 | G2: 笔试（50%） | I2: 面试（50%） | K2: 最后得分 | L2: 排名 | M2: 是否进入体检 | N2: 备注
G3: 笔试分数 | H3: 笔试分占比 | I3: 面试分数 | J3: 面试占比50%
A4: 1 | B4: 汤兴兰 | C4: 女 | D4: 01 | E4: =VLOOKUP(B4,[1]信息!$A:$B,2,FALSE) -> 2025031301034 | F4: 第一考场 | G4: 65 | H4: =G4*0.5 -> 32.5 | I4: 83.6 | J4: =I4*0.5 -> 41.8 | K4: =J4+H4 -> 74.3 | L4: 1 | M4: 是
A5: 2 | B5: 王秀栏 | C5: 女 | D5: 01 | E5: =VLOOKUP(B5,[1]信息!$A:$B,2,FALSE) -> 2025031301002 | F5: 第一考场 | G5: 68 | H5: =G5*0.5 -> 34 | I5: 77.4 | J5: =I5*0.5 -> 38.7 | K5: =J5+H5 -> 72.7 | L5: 2 | M5: 是
A6: 3 | B6: 龙建国 | C6: 男 | D6: 01 | E6: =VLOOKUP(B6,[1]信息!$A:$B,2,FALSE) -> 2025031301018 | F6: 第一考场 | G6: 70 | H6: =G6*0.5 -> 35 | I6: 75.2 | J6: =I6*0.5 -> 37.6 | K6: =J6+H6 -> 72.6 | L6: 3 | M6: 是
A7: 4 | B7: 石雨丹 | C7: 女 | D7: 01 | E7: =VLOOKUP(B7,[1]信息!$A:$B,2,FALSE) -> 2025031301023 | F7: 第一考场 | G7: 65 | H7: =G7*0.5 -> 32.5 | I7: 78.2 | J7: =I7*0.5 -> 39.1 | K7: =J7+H7 -> 71.6 | L7: 4 | M7: 是
A8: 5 | B8: 吴旭 | C8: 男 | D8: 01 | E8: =VLOOKUP(B8,[1]信息!$A:$B,2,FALSE) -> 2025031301027 | F8: 第一考场 | G8: 68 | H8: =G8*0.5 -> 34 | I8: 72.8 | J8: =I8*0.5 -> 36.4 | K8: =J8+H8 -> 70.4 | L8: 5 | M8: 是
A9: 6 | B9: 母世霞 | C9: 女 | D9: 01 | E9: =VLOOKUP(B9,[1]信息!$A:$B,2,FALSE) -> 2025031301016 | F9: 第一考场 | G9: 58 | H9: =G9*0.5 -> 29 | I9: 80.8 | J9: =I9*0.5 -> 40.4 | K9: =J9+H9 -> 69.4 | L9: 6
A10: 7 | B10: 潘雨雨 | C10: 女 | D10: 01 | E10: =VLOOKUP(B10,[1]信息!$A:$B,2,FALSE) -> 2025031301047 | F10: 第一考场 | G10: 61 | H10: =G10*0.5 -> 30.5 | I10: 75.2 | J10: =I10*0.5 -> 37.6 | K10: =J10+H10 -> 68.1 | L10: 7
A11: 8 | B11: 黄津湘 | C11: 女 | D11: 01 | E11: =VLOOKUP(B11,[1]信息!$A:$B,2,FALSE) -> 2025031301030 | F11: 第一考场 | G11: 63 | H11: =G11*0.5 -> 31.5 | I11: 73 | J11: =I11*0.5 -> 36.5 | K11: =J11+H11 -> 68 | L11: 8
A12: 9 | B12: 张明坤 | C12: 男 | D12: 01 | E12: =VLOOKUP(B12,[1]信息!$A:$B,2,FALSE) -> 2025031301015 | F12: 第一考场 | G12: 59 | H12: =G12*0.5 -> 29.5 | I12: 75.2 | J12: =I12*0.5 -> 37.6 | K12: =J12+H12 -> 67.1 | L12: 9
A13: 10 | B13: 杨娥 | C13: 女 | D13: 01 | E13: =VLOOKUP(B13,[1]信息!$A:$B,2,FALSE) -> 2025031301031 | F13: 第一考场 | G13: 58 | H13: =G13*0.5 -> 29 | I13: 76 | J13: =I13*0.5 -> 38 | K13: =J13+H13 -> 67 | L13: 10
A14: 11 | B14: 覃满平 | C14: 女 | D14: 01 | E14: =VLOOKUP(B14,[1]信息!$A:$B,2,FALSE) -> 2025031301024 | F14: 第一考场 | G14: 59 | H14: =G14*0.5 -> 29.5 | I14: 75 | J14: =I14*0.5 -> 37.5 | K14: =J14+H14 -> 67 | L14: 11
A15: 12 | B15: 龙彦 | C15: 女 | D15: 01 | E15: =VLOOKUP(B15,[1]信息!$A:$B,2,FALSE) -> 2025031301043 | F15: 第一考场 | G15: 62 | H15: =G15*0.5 -> 31 | I15: 71.2 | J15: =I15*0.5 -> 35.6 | K15: =J15+H15 -> 66.6 | L15: 12
A16: 13 | B16: 吴叶琴 | C16: 女 | D16: 01 | E16: =VLOOKUP(B16,[1]信息!$A:$B,2,FALSE) -> 2025031301008 | F16: 第一考场 | G16: 57 | H16: =G16*0.5 -> 28.5 | I16: 73 | J16: =I16*0.5 -> 36.5 | K16: =J16+H16 -> 65 | L16: 13
A17: 14 | B17: 李玉梅 | C17: 女 | D17: 01 | E17: =VLOOKUP(B17,[1]信息!$A:$B,2,FALSE) -> 2025031301041 | F17: 第一考场 | G17: 48 | H17: =G17*0.5 -> 24 | I17: 71.4 | J17: =I17*0.5 -> 35.7 | K17: =J17+H17 -> 59.7 | L17: 14
A18: 15 | B18: 杨英汉 | C18: 男 | D18: 01 | E18: =VLOOKUP(B18,[1]信息!$A:$B,2,FALSE) -> 2025031301035 | F18: 第一考场 | G18: 39 | H18: =G18*0.5 -> 19.5 | I18: 71 | J18: =I18*0.5 -> 35.5 | K18: =J18+H18 -> 55 | L18: 15
A19: 16 | B19: 杨海艳 | C19: 女 | D19: 01 | E19: =VLOOKUP(B19,[1]信息!$A:$B,2,FALSE) -> 2025031301026 | F19: 第一考场 | G19: 面试前15名进入笔试 | I19: 70.4 | J19: =I19*0.5 -> 35.2 | K19: =J19 -> 35.2 | L19: 16
A20: 17 | B20: 龙正菊 | C20: 女 | D20: 01 | E20: =VLOOKUP(B20,[1]信息!$A:$B,2,FALSE) -> 2025031301039 | F20: 第一考场 | G20: 面试前15名进入笔试 | I20: 69.4 | J20: =I20*0.5 -> 34.7 | K20: =J20 -> 34.7 | L20: 17
A21: 18 | B21: 龙芳柳 | C21: 女 | D21: 01 | E21: =VLOOKUP(B21,[1]信息!$A:$B,2,FALSE) -> 2025031301004 | F21: 第一考场 | G21: 面试前15名进入笔试 | I21: 69 | J21: =I21*0.5 -> 34.5 | K21: =J21 -> 34.5 | L21: 18
A22: 19 | B22: 唐小军 | C22: 女 | D22: 01 | E22: =VLOOKUP(B22,[1]信息!$A:$B,2,FALSE) -> 2025031301042 | F22: 第一考场 | G22: 面试前15名进入笔试 | I22: 68.6 | J22: =I22*0.5 -> 34.3 | K22: =J22 -> 34.3 | L22: 19
A23: 20 | B23: 王银红 | C23: 女 | D23: 01 | E23: =VLOOKUP(B23,[1]信息!$A:$B,2,FALSE) -> 2025031301012 | F23: 第一考场 | G23: 面试前15名进入笔试 | I23: 68.4 | J23: =I23*0.5 -> 34.2 | K23: =J23 -> 34.2 | L23: 20
A24: 21 | B24: 闵欣 | C24: 女 | D24: 01 | E24: =VLOOKUP(B24,[1]信息!$A:$B,2,FALSE) -> 2025031301019 | F24: 第一考场 | G24: 面试前15名进入笔试 | I24: 68.2 | J24: =I24*0.5 -> 34.1 | K24: =J24 -> 34.1 | L24: 21
A25: 22 | B25: 王欢 | C25: 女 | D25: 01 | E25: =VLOOKUP(B25,[1]信息!$A:$B,2,FALSE) -> 2025031301005 | F25: 第一考场 | G25: 面试前15名进入笔试 | I25: 68.2 | J25: =I25*0.5 -> 34.1 | K25: =J25 -> 34.1 | L25: 22
A26: 23 | B26: 潘方芳 | C26: 女 | D26: 01 | E26: =VLOOKUP(B26,[1]信息!$A:$B,2,FALSE) -> 2025031301003 | F26: 第一考场 | G26: 面试前15名进入笔试 | I26: 67.4 | J26: =I26*0.5 -> 33.7 | K26: =J26 -> 33.7 | L26: 23
A27: 24 | B27: 石敏 | C27: 女 | D27: 01 | E27: =VLOOKUP(B27,[1]信息!$A:$B,2,FALSE) -> 2025031301032 | F27: 第一考场 | G27: 面试前15名进入笔试 | I27: 67.2 | J27: =I27*0.5 -> 33.6 | K27: =J27 -> 33.6 | L27: 24
A28: 25 | B28: 姚琴 | C28: 女 | D28: 01 | E28: =VLOOKUP(B28,[1]信息!$A:$B,2,FALSE) -> 2025031301010 | F28: 第一考场 | G28: 面试前15名进入笔试 | I28: 67.2 | J28: =I28*0.5 -> 33.6 | K28: =J28 -> 33.6 | L28: 25
A29: 26 | B29: 龙生焰 | C29: 女 | D29: 01 | E29: =VLOOKUP(B29,[1]信息!$A:$B,2,FALSE) -> 2025031301001 | F29: 第一考场 | G29: 面试前15名进入笔试 | I29: 67 | J29: =I29*0.5 -> 33.5 | K29: =J29 -> 33.5 | L29: 26
A30: 27 | B30: 龙安锦 | C30: 男 | D30: 01 | E30: =VLOOKUP(B30,[1]信息!$A:$B,2,FALSE) -> 2025031301009 | F30: 第一考场 | G30: 面试前15名进入笔试 | I30: 66.4 | J30: =I30*0.5 -> 33.2 | K30: =J30 -> 33.2 | L30: 27
... A52: 49 | B52: 姜青弟 | C52: 女 | D52: 01 | E52: =VLOOKUP(B52,[1]信息!$A:$B,2,FALSE) -> 2025031301007 | F52: 第一考场 | G52: 面试前15名进入笔试 | I52: 52.2 | J52: =I52*0.5 -> 26.1 | K52: =J52 -> 26.1 | L52: 49
