Workbook

Sheet Sheet1
A1: 黔南州医疗机构后勤保障中心工作人员遴选 综合成绩汇总公示表
A2: 序号 | B2: 岗位名称 | C2: 考生姓名 | D2: 岗位代码 | E2: 笔试成绩 | F2: 面试成绩 | G2: 综合成绩 | H2: 是否进入考察环节
A3: 1 | B3: 黔南州医疗机构后勤保障中心工作人员 | C3: 张潇 | D3: =VLOOKUP(C3,[1]加岗位!C$1:D$65536,2,0) -> 01 | E3: =VLOOKUP(C3,[1]加岗位!C$1:I$65536,7,0) -> 81.5 | F3: 79.8 | G3: =E3*0.4+F3*0.6 -> 80.48 | H3: 是
A4: 2 | B4: 黔南州医疗机构后勤保障中心工作人员 | C4: 袁崇贵 | D4: =VLOOKUP(C4,[1]加岗位!C$1:D$65536,2,0) -> 01 | E4: =VLOOKUP(C4,[1]加岗位!C$1:I$65536,7,0) -> 89 | F4: 74.2 | G4: =E4*0.4+F4*0.6 -> 80.12 | H4: 是
A5: 3 | B5: 黔南州医疗机构后勤保障中心工作人员 | C5: 曹潆丹 | D5: =VLOOKUP(C5,[1]加岗位!C$1:D$65536,2,0) -> 01 | E5: =VLOOKUP(C5,[1]加岗位!C$1:I$65536,7,0) -> 61 | F5: 70 | G5: =E5*0.4+F5*0.6 -> 66.4 | H5: 否
A6: 4 | B6: 黔南州医疗机构后勤保障中心专业技术人员 | C6: 周杨 | D6: =VLOOKUP(C6,[1]加岗位!C$1:D$65536,2,0) -> 02 | E6: =VLOOKUP(C6,[1]加岗位!C$1:I$65536,7,0) -> 86.5 | F6: 80.8 | G6: =E6*0.4+F6*0.6 -> 83.08 | H6: 是
A7: 5 | B7: 黔南州医疗机构后勤保障中心专业技术人员 | C7: 石华民 | D7: =VLOOKUP(C7,[1]加岗位!C$1:D$65536,2,0) -> 02 | E7: =VLOOKUP(C7,[1]加岗位!C$1:I$65536,7,0) -> 75 | F7: 78.8 | G7: =E7*0.4+F7*0.6 -> 77.28 | H7: 是
A8: 6 | B8: 黔南州医疗机构后勤保障中心专业技术人员 | C8: 魏华爱 | D8: =VLOOKUP(C8,[1]加岗位!C$1:D$65536,2,0) -> 02 | E8: =VLOOKUP(C8,[1]加岗位!C$1:I$65536,7,0) -> 76 | F8: 74.2 | G8: =E8*0.4+F8*0.6 -> 74.92 | H8: 否
A9: 7 | B9: 黔南州医疗机构后勤保障中心专业技术人员 | C9: 吴孟俞 | D9: =VLOOKUP(C9,[1]加岗位!C$1:D$65536,2,0) -> 02 | E9: 72 | F9: 缺考 | G9: =E9*0.4 -> 28.8 | H9: 否
A10: 8 | B10: 黔南州医疗机构后勤保障中心专业技术人员 | C10: 代梅 | D10: =VLOOKUP(C10,[1]加岗位!C$1:D$65536,2,0) -> 02 | E10: 缺考 | F10: 缺考 | G10: 缺考 | H10: 否
